BEGIN:VCALENDAR
VERSION:2.0
PRODID:-//Casa Família | Maria Porta do Céu - ECPv6.15.11//NONSGML v1.0//EN
CALSCALE:GREGORIAN
METHOD:PUBLISH
X-ORIGINAL-URL:https://casafamilia.org.br
X-WR-CALDESC:Eventos para Casa Família | Maria Porta do Céu
REFRESH-INTERVAL;VALUE=DURATION:PT1H
X-Robots-Tag:noindex
X-PUBLISHED-TTL:PT1H
BEGIN:VTIMEZONE
TZID:America/Sao_Paulo
BEGIN:STANDARD
TZOFFSETFROM:-0300
TZOFFSETTO:-0300
TZNAME:-03
DTSTART:20240101T000000
END:STANDARD
END:VTIMEZONE
BEGIN:VEVENT
DTSTART;VALUE=DATE:20251012
DTEND;VALUE=DATE:20251013
DTSTAMP:20260424T052308
CREATED:20250901T114204Z
LAST-MODIFIED:20250901T114255Z
UID:1113-1760227200-1760313599@casafamilia.org.br
SUMMARY:Evento 03
DESCRIPTION:Descrição completa aqui neste local.
URL:https://casafamilia.org.br/evento/evento-03/
ATTACH;FMTTYPE=image/jpeg:https://casafamilia.org.br/wp-content/uploads/2025/08/giulia-bertelli-dvXGnwnYweM-unsplash-scaled.jpg
END:VEVENT
BEGIN:VEVENT
DTSTART;VALUE=DATE:20250925
DTEND;VALUE=DATE:20250926
DTSTAMP:20260424T052308
CREATED:20250901T114028Z
LAST-MODIFIED:20250901T114028Z
UID:1111-1758758400-1758844799@casafamilia.org.br
SUMMARY:Evento 02
DESCRIPTION:Descrição aqui neste local.
URL:https://casafamilia.org.br/evento/evento-02/
ATTACH;FMTTYPE=image/jpeg:https://casafamilia.org.br/wp-content/uploads/2025/08/baylee-gramling-R5eoT-c-jkY-unsplash-scaled.jpg
END:VEVENT
BEGIN:VEVENT
DTSTART;VALUE=DATE:20250920
DTEND;VALUE=DATE:20250921
DTSTAMP:20260424T052308
CREATED:20250901T113544Z
LAST-MODIFIED:20250901T113933Z
UID:1098-1758326400-1758412799@casafamilia.org.br
SUMMARY:Evento 01
DESCRIPTION:Descrição do evento aqui neste local.
URL:https://casafamilia.org.br/evento/evento-01/
LOCATION:Nome do local aqui\, Insira o endereço aqui\, Teste\, Paraná\, Brazil
ATTACH;FMTTYPE=image/jpeg:https://casafamilia.org.br/wp-content/uploads/2025/08/larm-rmah-AEaTUnvneik-unsplash-scaled.jpg
END:VEVENT
END:VCALENDAR